View In:
ArcGIS JavaScript
ArcGIS Online Map Viewer
ArcGIS Earth
ArcMap
View Footprint In:
ArcGIS Online Map Viewer
Service Description: iptsat_2022_db_sde_Roma_night_image
Name: iptsat_2022_db_sde_Roma_night_image
Description:
Single Fused Map Cache: false
Extent:
XMin: 1381553.5798561715
YMin: 5138659.519144985
XMax: 1401492.9173805371
YMax: 5150053.426301765
Spatial Reference: 102100
(3857)
LatestVCSWkid(0)
Initial Extent:
XMin: 1381553.5798561715
YMin: 5138659.519144985
XMax: 1401492.9173805371
YMax: 5150053.426301765
Spatial Reference: 102100
(3857)
LatestVCSWkid(0)
Full Extent:
XMin: 1381553.5798561715
YMin: 5138659.519144985
XMax: 1401492.9173805371
YMax: 5150053.426301765
Spatial Reference: 102100
(3857)
LatestVCSWkid(0)
Pixel Size X: 1.3908578072241653
Pixel Size Y: 1.3908578072241653
Band Count: 3
Pixel Type: U16
RasterFunction Infos: {"rasterFunctionInfos": [{
"name": "None",
"description": "",
"help": ""
}]}
Mensuration Capabilities: Basic
Has Histograms: true
Has Colormap: false
Has Multi Dimensions : false
Rendering Rule:
Min Scale: 0
Max Scale: 0
Copyright Text:
Service Data Type: esriImageServiceDataTypeGeneric
Min Values: 0, 0, 0
Max Values: 254, 254, 254
Mean Values: 2.4150791221334855, 1.9620375705390691, 1.3989591557785532
Standard Deviation Values: 7.815414405845088, 7.197097572275767, 6.218052867281963
Object ID Field:
Fields:
None
Default Mosaic Method: Center
Allowed Mosaic Methods:
SortField:
SortValue: null
Mosaic Operator: First
Default Compression Quality: 75
Default Resampling Method: Bilinear
Max Record Count: null
Max Image Height: 4100
Max Image Width: 15000
Max Download Image Count: null
Max Mosaic Image Count: null
Allow Raster Function: true
Allow Copy: true
Allow Analysis: true
Allow Compute TiePoints: false
Supports Statistics: false
Supports Advanced Queries: false
Use StandardizedQueries: true
Raster Type Infos:
Name: Raster Dataset
Description: Supports all ArcGIS Raster Datasets
Help:
Has Raster Attribute Table: false
Edit Fields Info: null
Ownership Based AccessControl For Rasters: null
Child Resources:
Info
Histograms
Statistics
Key Properties
Legend
Raster Function Infos
Supported Operations:
Export Image
Identify
Measure
Compute Histograms
Compute Statistics Histograms
Get Samples
Compute Class Statistics
Query Boundary
Compute Pixel Location
Compute Angles
Validate
Project