View In:
ArcGIS JavaScript
ArcGIS Online Map Viewer
ArcGIS Earth
ArcMap
View Footprint In:
ArcGIS Online Map Viewer
Service Description: Wind_speed_potential_Areas
Name: Wind_speed_potential_Areas
Description:
Single Fused Map Cache: false
Extent:
XMin: 6.540000000009229
YMin: 36.44249999999734
XMax: 18.987500000009845
YMax: 47.09499999999787
Spatial Reference: 4326
(4326)
LatestVCSWkid(0)
Initial Extent:
XMin: 6.540000000009229
YMin: 36.44249999999734
XMax: 18.987500000009845
YMax: 47.09499999999787
Spatial Reference: 4326
(4326)
LatestVCSWkid(0)
Full Extent:
XMin: 6.540000000009229
YMin: 36.44249999999734
XMax: 18.987500000009845
YMax: 47.09499999999787
Spatial Reference: 4326
(4326)
LatestVCSWkid(0)
Pixel Size X: 0.0025000000000001237
Pixel Size Y: 0.002500000000000124
Band Count: 1
Pixel Type: F32
RasterFunction Infos: {"rasterFunctionInfos": [{
"name": "None",
"description": "",
"help": ""
}]}
Mensuration Capabilities: Basic
Has Histograms: true
Has Colormap: false
Has Multi Dimensions : false
Rendering Rule:
Min Scale: 0
Max Scale: 0
Copyright Text:
Service Data Type: esriImageServiceDataTypeGeneric
Min Values: 0.37036025524139404
Max Values: 18.050952911376953
Mean Values: 4.612031596844435
Standard Deviation Values: 1.4159452658680411
Object ID Field:
Fields:
None
Default Mosaic Method: Center
Allowed Mosaic Methods:
SortField:
SortValue: null
Mosaic Operator: First
Default Compression Quality: 75
Default Resampling Method: Bilinear
Max Record Count: null
Max Image Height: 4100
Max Image Width: 15000
Max Download Image Count: null
Max Mosaic Image Count: null
Allow Raster Function: true
Allow Copy: true
Allow Analysis: true
Allow Compute TiePoints: false
Supports Statistics: false
Supports Advanced Queries: false
Use StandardizedQueries: true
Raster Type Infos:
Name: Raster Dataset
Description: Supports all ArcGIS Raster Datasets
Help:
Has Raster Attribute Table: false
Edit Fields Info: null
Ownership Based AccessControl For Rasters: null
Child Resources:
Info
Histograms
Statistics
Key Properties
Legend
Raster Function Infos
Supported Operations:
Export Image
Identify
Measure
Compute Histograms
Compute Statistics Histograms
Get Samples
Compute Class Statistics
Query Boundary
Compute Pixel Location
Compute Angles
Validate
Project