View In:
ArcGIS JavaScript
ArcGIS Online Map Viewer
ArcGIS Earth
ArcMap
View Footprint In:
ArcGIS Online Map Viewer
Service Description: Solar_Potentia_lArea
Name: Solar_Potentia_lArea
Description:
Single Fused Map Cache: false
Extent:
XMin: 6.533333333333333
YMin: 36.44166666666666
XMax: 19.0
YMax: 47.13333333333333
Spatial Reference: 4326
(4326)
LatestVCSWkid(0)
Initial Extent:
XMin: 6.533333333333333
YMin: 36.44166666666666
XMax: 19.0
YMax: 47.13333333333333
Spatial Reference: 4326
(4326)
LatestVCSWkid(0)
Full Extent:
XMin: 6.533333333333333
YMin: 36.44166666666666
XMax: 19.0
YMax: 47.13333333333333
Spatial Reference: 4326
(4326)
LatestVCSWkid(0)
Pixel Size X: 0.008333333333333333
Pixel Size Y: 0.008333333333333337
Band Count: 1
Pixel Type: F32
RasterFunction Infos: {"rasterFunctionInfos": [{
"name": "None",
"description": "",
"help": ""
}]}
Mensuration Capabilities: Basic
Has Histograms: true
Has Colormap: false
Has Multi Dimensions : false
Rendering Rule:
Min Scale: 0
Max Scale: 0
Copyright Text:
Service Data Type: esriImageServiceDataTypeGeneric
Min Values: 633.343994140625
Max Values: 1703.8909912109375
Mean Values: 1428.8852446949077
Standard Deviation Values: 108.52022624074282
Object ID Field:
Fields:
None
Default Mosaic Method: Center
Allowed Mosaic Methods:
SortField:
SortValue: null
Mosaic Operator: First
Default Compression Quality: 75
Default Resampling Method: Bilinear
Max Record Count: null
Max Image Height: 4100
Max Image Width: 15000
Max Download Image Count: null
Max Mosaic Image Count: null
Allow Raster Function: true
Allow Copy: true
Allow Analysis: true
Allow Compute TiePoints: false
Supports Statistics: false
Supports Advanced Queries: false
Use StandardizedQueries: true
Raster Type Infos:
Name: Raster Dataset
Description: Supports all ArcGIS Raster Datasets
Help:
Has Raster Attribute Table: false
Edit Fields Info: null
Ownership Based AccessControl For Rasters: null
Child Resources:
Info
Histograms
Statistics
Key Properties
Legend
Raster Function Infos
Supported Operations:
Export Image
Identify
Measure
Compute Histograms
Compute Statistics Histograms
Get Samples
Compute Class Statistics
Query Boundary
Compute Pixel Location
Compute Angles
Validate
Project