View In:
ArcGIS JavaScript
ArcGIS Online Map Viewer
ArcGIS Earth
ArcMap
View Footprint In:
ArcGIS Online Map Viewer
Service Description: NDVI_S2_RC_07062024_norm
Name: NDVI_S2_RC_07062024_norm
Description:
Single Fused Map Cache: false
Extent:
XMin: 554616.7323017297
YMin: 4196293.943018571
XMax: 638636.7323017297
YMax: 4270913.943018571
Spatial Reference: 32633
(32633)
LatestVCSWkid(0)
Initial Extent:
XMin: 554616.7323017297
YMin: 4196293.943018571
XMax: 638636.7323017297
YMax: 4270913.943018571
Spatial Reference: 32633
(32633)
LatestVCSWkid(0)
Full Extent:
XMin: 554616.7323017297
YMin: 4196293.943018571
XMax: 638636.7323017297
YMax: 4270913.943018571
Spatial Reference: 32633
(32633)
LatestVCSWkid(0)
Pixel Size X: 10.0
Pixel Size Y: 10.0
Band Count: 1
Pixel Type: F32
RasterFunction Infos: {"rasterFunctionInfos": [{
"name": "None",
"description": "",
"help": ""
}]}
Mensuration Capabilities: Basic
Has Histograms: true
Has Colormap: false
Has Multi Dimensions : false
Rendering Rule:
Min Scale: 0
Max Scale: 0
Copyright Text:
Service Data Type: esriImageServiceDataTypeScientific
Min Values: -1.0000005960464478
Max Values: 1.0000004768371582
Mean Values: 0.5043367935333736
Standard Deviation Values: 0.2131479873430136
Object ID Field:
Fields:
None
Default Mosaic Method: Center
Allowed Mosaic Methods:
SortField:
SortValue: null
Mosaic Operator: First
Default Compression Quality: 75
Default Resampling Method: Bilinear
Max Record Count: null
Max Image Height: 4100
Max Image Width: 15000
Max Download Image Count: null
Max Mosaic Image Count: null
Allow Raster Function: true
Allow Copy: true
Allow Analysis: true
Allow Compute TiePoints: false
Supports Statistics: false
Supports Advanced Queries: false
Use StandardizedQueries: true
Raster Type Infos:
Name: Raster Dataset
Description: Supports all ArcGIS Raster Datasets
Help:
Has Raster Attribute Table: false
Edit Fields Info: null
Ownership Based AccessControl For Rasters: null
Child Resources:
Info
Histograms
Statistics
Key Properties
Legend
Raster Function Infos
Supported Operations:
Export Image
Identify
Measure
Compute Histograms
Compute Statistics Histograms
Get Samples
Compute Class Statistics
Query Boundary
Compute Pixel Location
Compute Angles
Validate
Project