View In:
ArcGIS JavaScript
ArcGIS Online Map Viewer
ArcGIS Earth
ArcMap
View Footprint In:
ArcGIS Online Map Viewer
Service Description: NDMI_RC_07062024_norma
Name: NDMI_RC_07062024_norma
Description:
Single Fused Map Cache: false
Extent:
XMin: 554616.7322427751
YMin: 4196283.942971099
XMax: 638636.7322422661
YMax: 4270903.942970652
Spatial Reference: 25833
(25833)
LatestVCSWkid(0)
Initial Extent:
XMin: 554616.7322427751
YMin: 4196283.942971099
XMax: 638636.7322422661
YMax: 4270903.942970652
Spatial Reference: 25833
(25833)
LatestVCSWkid(0)
Full Extent:
XMin: 554616.7322427751
YMin: 4196283.942971099
XMax: 638636.7322422661
YMax: 4270903.942970652
Spatial Reference: 25833
(25833)
LatestVCSWkid(0)
Pixel Size X: 19.999999999878817
Pixel Size Y: 19.999999999880185
Band Count: 1
Pixel Type: F32
RasterFunction Infos: {"rasterFunctionInfos": [{
"name": "None",
"description": "",
"help": ""
}]}
Mensuration Capabilities: Basic
Has Histograms: true
Has Colormap: false
Has Multi Dimensions : false
Rendering Rule:
Min Scale: 0
Max Scale: 0
Copyright Text:
Service Data Type: esriImageServiceDataTypeGeneric
Min Values: -0.9999998807907104
Max Values: 1.0000007152557373
Mean Values: 0.24556597852075437
Standard Deviation Values: 0.25777700959474525
Object ID Field:
Fields:
None
Default Mosaic Method: Center
Allowed Mosaic Methods:
SortField:
SortValue: null
Mosaic Operator: First
Default Compression Quality: 75
Default Resampling Method: Bilinear
Max Record Count: null
Max Image Height: 4100
Max Image Width: 15000
Max Download Image Count: null
Max Mosaic Image Count: null
Allow Raster Function: true
Allow Copy: true
Allow Analysis: true
Allow Compute TiePoints: false
Supports Statistics: false
Supports Advanced Queries: false
Use StandardizedQueries: true
Raster Type Infos:
Name: Raster Dataset
Description: Supports all ArcGIS Raster Datasets
Help:
Has Raster Attribute Table: false
Edit Fields Info: null
Ownership Based AccessControl For Rasters: null
Child Resources:
Info
Histograms
Statistics
Key Properties
Legend
Raster Function Infos
Supported Operations:
Export Image
Identify
Measure
Compute Histograms
Compute Statistics Histograms
Get Samples
Compute Class Statistics
Query Boundary
Compute Pixel Location
Compute Angles
Validate
Project