View In:
ArcGIS JavaScript
ArcGIS Online Map Viewer
ArcGIS Earth
ArcMap
View Footprint In:
ArcGIS Online Map Viewer
Service Description: Mosaic_RC_RGB_Jun_Dec24
Name: Mosaic_RC_RGB_Jun_Dec24
Description:
Single Fused Map Cache: false
Extent:
XMin: 554626.2323017297
YMin: 4196290.943018571
XMax: 638633.2323017297
YMax: 4270902.443018571
Spatial Reference: 32633
(32633)
LatestVCSWkid(0)
Initial Extent:
XMin: 554626.2323017297
YMin: 4196290.943018571
XMax: 638633.2323017297
YMax: 4270902.443018571
Spatial Reference: 32633
(32633)
LatestVCSWkid(0)
Full Extent:
XMin: 554626.2323017297
YMin: 4196290.943018571
XMax: 638633.2323017297
YMax: 4270902.443018571
Spatial Reference: 32633
(32633)
LatestVCSWkid(0)
Pixel Size X: 0.5
Pixel Size Y: 0.5
Band Count: 4
Pixel Type: U8
RasterFunction Infos: {"rasterFunctionInfos": [
{
"name": "mask background Reggio Calabria imagery",
"description": "mask background Reggio Calabria imagery",
"help": ""
},
{
"name": "None",
"description": "",
"help": ""
}
]}
Mensuration Capabilities: Basic
Has Histograms: true
Has Colormap: false
Has Multi Dimensions : false
Rendering Rule:
Min Scale: 0
Max Scale: 0
Copyright Text:
Service Data Type: esriImageServiceDataTypeGeneric
Min Values: 0, 0, 0, 0
Max Values: 255, 255, 255, 255
Mean Values: 13.521881257029849, 18.464229579949194, 20.077556421117517, 47.92877100709278
Standard Deviation Values: 16.50294279385793, 20.915917541926827, 21.776821203352217, 82.1147394038818
Object ID Field:
Fields:
None
Default Mosaic Method: Center
Allowed Mosaic Methods:
SortField:
SortValue: null
Mosaic Operator: First
Default Compression Quality: 75
Default Resampling Method: Bilinear
Max Record Count: null
Max Image Height: 4100
Max Image Width: 15000
Max Download Image Count: null
Max Mosaic Image Count: null
Allow Raster Function: true
Allow Copy: true
Allow Analysis: true
Allow Compute TiePoints: false
Supports Statistics: false
Supports Advanced Queries: false
Use StandardizedQueries: true
Raster Type Infos:
Name: Raster Dataset
Description: Supports all ArcGIS Raster Datasets
Help:
Has Raster Attribute Table: false
Edit Fields Info: null
Ownership Based AccessControl For Rasters: null
Child Resources:
Info
Histograms
Statistics
Key Properties
Legend
Raster Function Infos
Supported Operations:
Export Image
Identify
Measure
Compute Histograms
Compute Statistics Histograms
Get Samples
Compute Class Statistics
Query Boundary
Compute Pixel Location
Compute Angles
Validate
Project