View In:
ArcGIS JavaScript
ArcGIS Online Map Viewer
ArcGIS Earth
ArcMap
View Footprint In:
ArcGIS Online Map Viewer
Service Description: Mos_RC_NIR_Jun_Dec24
Name: Mos_RC_NIR_Jun_Dec24
Description:
Single Fused Map Cache: false
Extent:
XMin: 531055.7323017297
YMin: 4170011.9430185705
XMax: 662138.2323017297
YMax: 4297628.443018571
Spatial Reference: 0
(0)
LatestVCSWkid(0)
Initial Extent:
XMin: 531055.7323017297
YMin: 4170011.9430185705
XMax: 662138.2323017297
YMax: 4297628.443018571
Spatial Reference: 0
(0)
LatestVCSWkid(0)
Full Extent:
XMin: 531055.7323017297
YMin: 4170011.9430185705
XMax: 662138.2323017297
YMax: 4297628.443018571
Spatial Reference: 0
(0)
LatestVCSWkid(0)
Pixel Size X: 0.5
Pixel Size Y: 0.5
Band Count: 3
Pixel Type: U8
RasterFunction Infos: {"rasterFunctionInfos": [{
"name": "None",
"description": "",
"help": ""
}]}
Mensuration Capabilities: Basic
Has Histograms: true
Has Colormap: false
Has Multi Dimensions : false
Rendering Rule:
Min Scale: 0
Max Scale: 0
Copyright Text:
Service Data Type: esriImageServiceDataTypeRGB
Min Values: 0, 0, 0
Max Values: 255, 255, 255
Mean Values: 35.75022188931704, 30.97850279568427, 29.770690351953682
Standard Deviation Values: 74.94831655967764, 66.83175175999958, 64.22011050394258
Object ID Field:
Fields:
None
Default Mosaic Method: Center
Allowed Mosaic Methods:
SortField:
SortValue: null
Mosaic Operator: First
Default Compression Quality: 75
Default Resampling Method: Bilinear
Max Record Count: null
Max Image Height: 4100
Max Image Width: 15000
Max Download Image Count: null
Max Mosaic Image Count: null
Allow Raster Function: true
Allow Copy: true
Allow Analysis: true
Allow Compute TiePoints: false
Supports Statistics: false
Supports Advanced Queries: false
Use StandardizedQueries: true
Raster Type Infos:
Name: Raster Dataset
Description: Supports all ArcGIS Raster Datasets
Help:
Has Raster Attribute Table: false
Edit Fields Info: null
Ownership Based AccessControl For Rasters: null
Child Resources:
Info
Histograms
Statistics
Key Properties
Legend
Raster Function Infos
Supported Operations:
Export Image
Identify
Measure
Compute Histograms
Compute Statistics Histograms
Get Samples
Compute Class Statistics
Query Boundary
Compute Pixel Location
Compute Angles
Validate
Project