View In:
ArcGIS JavaScript
ArcGIS Online Map Viewer
ArcGIS Earth
ArcMap
View Footprint In:
ArcGIS Online Map Viewer
Service Description: DTM1x1_Fiumare_RC
Name: DTM1x1_Fiumare_RC
Description:
Single Fused Map Cache: false
Extent:
XMin: 573569.7558833031
YMin: 4198380.559331704
XMax: 601064.7558833031
YMax: 4226411.559331704
Spatial Reference: 32633
(32633)
LatestVCSWkid(0)
Initial Extent:
XMin: 573569.7558833031
YMin: 4198380.559331704
XMax: 601064.7558833031
YMax: 4226411.559331704
Spatial Reference: 32633
(32633)
LatestVCSWkid(0)
Full Extent:
XMin: 573569.7558833031
YMin: 4198380.559331704
XMax: 601064.7558833031
YMax: 4226411.559331704
Spatial Reference: 32633
(32633)
LatestVCSWkid(0)
Pixel Size X: 1.0
Pixel Size Y: 1.0
Band Count: 1
Pixel Type: F32
RasterFunction Infos: {"rasterFunctionInfos": [{
"name": "None",
"description": "",
"help": ""
}]}
Mensuration Capabilities: Basic
Has Histograms: true
Has Colormap: false
Has Multi Dimensions : false
Rendering Rule:
Min Scale: 0
Max Scale: 0
Copyright Text:
Service Data Type: esriImageServiceDataTypeGeneric
Min Values: 4.715000152587891
Max Values: 1292.93994140625
Mean Values: 318.410647539414
Standard Deviation Values: 259.51195401566673
Object ID Field:
Fields:
None
Default Mosaic Method: Center
Allowed Mosaic Methods:
SortField:
SortValue: null
Mosaic Operator: First
Default Compression Quality: 75
Default Resampling Method: Bilinear
Max Record Count: null
Max Image Height: 4100
Max Image Width: 15000
Max Download Image Count: null
Max Mosaic Image Count: null
Allow Raster Function: true
Allow Copy: true
Allow Analysis: true
Allow Compute TiePoints: false
Supports Statistics: false
Supports Advanced Queries: false
Use StandardizedQueries: true
Raster Type Infos:
Name: Raster Dataset
Description: Supports all ArcGIS Raster Datasets
Help:
Has Raster Attribute Table: false
Edit Fields Info: null
Ownership Based AccessControl For Rasters: null
Child Resources:
Info
Histograms
Statistics
Key Properties
Legend
Raster Function Infos
Supported Operations:
Export Image
Identify
Measure
Compute Histograms
Compute Statistics Histograms
Get Samples
Compute Class Statistics
Query Boundary
Compute Pixel Location
Compute Angles
Validate
Project