{
 "currentVersion": 10.91,
 "serviceDescription": "NDMI_RC_24012024_norma",
 "name": "NDMI_RC_24012024_norma",
 "description": "",
 "extent": {
  "xmin": 554616.7322427835,
  "ymin": 4196283.94297109,
  "xmax": 638636.7322422746,
  "ymax": 4270923.942970643,
  "spatialReference": {
   "wkid": 25833,
   "latestWkid": 25833
  }
 },
 "initialExtent": {
  "xmin": 554616.7322427835,
  "ymin": 4196283.94297109,
  "xmax": 638636.7322422746,
  "ymax": 4270923.942970643,
  "spatialReference": {
   "wkid": 25833,
   "latestWkid": 25833
  }
 },
 "fullExtent": {
  "xmin": 554616.7322427835,
  "ymin": 4196283.94297109,
  "xmax": 638636.7322422746,
  "ymax": 4270923.942970643,
  "spatialReference": {
   "wkid": 25833,
   "latestWkid": 25833
  }
 },
 "hasMultidimensions": false,
 "pixelSizeX": 19.999999999878845,
 "pixelSizeY": 19.999999999880217,
 "datasetFormat": "SDR",
 "uncompressedSize": 62712528,
 "blockWidth": 128,
 "blockHeight": 128,
 "compressionType": "LZ77",
 "bandNames": [
  "Band_1"
 ],
 "allowCopy": true,
 "allowAnalysis": true,
 "bandCount": 1,
 "pixelType": "F32",
 "minPixelSize": 0,
 "maxPixelSize": 0,
 "copyrightText": "",
 "serviceDataType": "esriImageServiceDataTypeGeneric",
 "serviceSourceType": "esriImageServiceSourceTypeDataset",
 "minValues": [
  -1.0000003576278687
 ],
 "maxValues": [
  1.000000238418579
 ],
 "meanValues": [
  0.13643351383498906
 ],
 "stdvValues": [
  0.17145011816193917
 ],
 "objectIdField": "",
 "fields": [],
 "capabilities": "Image,Metadata,Mensuration",
 "defaultMosaicMethod": "Center",
 "allowedMosaicMethods": "",
 "sortField": "",
 "sortValue": null,
 "sortAscending": true,
 "mosaicOperator": "First",
 "defaultCompressionQuality": 75,
 "defaultResamplingMethod": "Bilinear",
 "maxImageHeight": 4100,
 "maxImageWidth": 15000,
 "allowRasterFunction": true,
 "rasterFunctionInfos": [
  {
   "name": "None",
   "description": "",
   "help": ""
  }
 ],
 "rasterTypeInfos": [
  {
   "name": "Raster Dataset",
   "description": "Supports all ArcGIS Raster Datasets",
   "help": ""
  }
 ],
 "mensurationCapabilities": "Basic",
 "hasHistograms": true,
 "hasColormap": false,
 "hasRasterAttributeTable": false,
 "minScale": 0,
 "maxScale": 0,
 "exportTilesAllowed": false,
 "supportsStatistics": false,
 "supportsAdvancedQueries": false,
 "editFieldsInfo": null,
 "ownershipBasedAccessControlForRasters": null,
 "allowComputeTiePoints": false,
 "useStandardizedQueries": true,
 "advancedQueryCapabilities": {
  "useStandardizedQueries": true,
  "supportsStatistics": false,
  "supportsOrderBy": false,
  "supportsDistinct": false,
  "supportsPagination": false
 },
 "spatialReference": {
  "wkid": 25833,
  "latestWkid": 25833
 }
}
