{
 "currentVersion": 10.91,
 "serviceDescription": "NDMI_RC_04062025_norma",
 "name": "NDMI_RC_04062025_norma",
 "description": "",
 "extent": {
  "xmin": 554616.7322427751,
  "ymin": 4196283.942971099,
  "xmax": 638636.7322422661,
  "ymax": 4270903.942970652,
  "spatialReference": {
   "wkid": 25833,
   "latestWkid": 25833
  }
 },
 "initialExtent": {
  "xmin": 554616.7322427751,
  "ymin": 4196283.942971099,
  "xmax": 638636.7322422661,
  "ymax": 4270903.942970652,
  "spatialReference": {
   "wkid": 25833,
   "latestWkid": 25833
  }
 },
 "fullExtent": {
  "xmin": 554616.7322427751,
  "ymin": 4196283.942971099,
  "xmax": 638636.7322422661,
  "ymax": 4270903.942970652,
  "spatialReference": {
   "wkid": 25833,
   "latestWkid": 25833
  }
 },
 "hasMultidimensions": false,
 "pixelSizeX": 19.999999999878817,
 "pixelSizeY": 19.999999999880185,
 "datasetFormat": "SDR",
 "uncompressedSize": 62695724,
 "blockWidth": 128,
 "blockHeight": 128,
 "compressionType": "LZ77",
 "bandNames": [
  "Band_1"
 ],
 "allowCopy": true,
 "allowAnalysis": true,
 "bandCount": 1,
 "pixelType": "F32",
 "minPixelSize": 0,
 "maxPixelSize": 0,
 "copyrightText": "",
 "serviceDataType": "esriImageServiceDataTypeGeneric",
 "serviceSourceType": "esriImageServiceSourceTypeDataset",
 "minValues": [
  -1
 ],
 "maxValues": [
  0.9999991655349731
 ],
 "meanValues": [
  0.3212152274758152
 ],
 "stdvValues": [
  0.21116070560221833
 ],
 "objectIdField": "",
 "fields": [],
 "capabilities": "Image,Metadata,Mensuration",
 "defaultMosaicMethod": "Center",
 "allowedMosaicMethods": "",
 "sortField": "",
 "sortValue": null,
 "sortAscending": true,
 "mosaicOperator": "First",
 "defaultCompressionQuality": 75,
 "defaultResamplingMethod": "Bilinear",
 "maxImageHeight": 4100,
 "maxImageWidth": 15000,
 "allowRasterFunction": true,
 "rasterFunctionInfos": [
  {
   "name": "None",
   "description": "",
   "help": ""
  }
 ],
 "rasterTypeInfos": [
  {
   "name": "Raster Dataset",
   "description": "Supports all ArcGIS Raster Datasets",
   "help": ""
  }
 ],
 "mensurationCapabilities": "Basic",
 "hasHistograms": true,
 "hasColormap": false,
 "hasRasterAttributeTable": false,
 "minScale": 0,
 "maxScale": 0,
 "exportTilesAllowed": false,
 "supportsStatistics": false,
 "supportsAdvancedQueries": false,
 "editFieldsInfo": null,
 "ownershipBasedAccessControlForRasters": null,
 "allowComputeTiePoints": false,
 "useStandardizedQueries": true,
 "advancedQueryCapabilities": {
  "useStandardizedQueries": true,
  "supportsStatistics": false,
  "supportsOrderBy": false,
  "supportsDistinct": false,
  "supportsPagination": false
 },
 "spatialReference": {
  "wkid": 25833,
  "latestWkid": 25833
 }
}
